BEGIN:VCALENDAR
VERSION:2.0
PRODID:-//Pepper Foundation - ECPv6.15.0.1//NONSGML v1.0//EN
CALSCALE:GREGORIAN
METHOD:PUBLISH
X-WR-CALNAME:Pepper Foundation
X-ORIGINAL-URL:https://www.pepper.org.uk
X-WR-CALDESC:Events for Pepper Foundation
REFRESH-INTERVAL;VALUE=DURATION:PT1H
X-Robots-Tag:noindex
X-PUBLISHED-TTL:PT1H
BEGIN:VTIMEZONE
TZID:UTC
BEGIN:STANDARD
TZOFFSETFROM:+0000
TZOFFSETTO:+0000
TZNAME:UTC
DTSTART:20190101T000000
END:STANDARD
END:VTIMEZONE
BEGIN:VEVENT
DTSTART;TZID=UTC:20190710T190000
DTEND;TZID=UTC:20190711T223000
DTSTAMP:20260426T012005
CREATED:20190702T084041Z
LAST-MODIFIED:20190702T084041Z
UID:2232-1562785200-1562884200@www.pepper.org.uk
SUMMARY:Celebrity Dinner at Coluco
DESCRIPTION:Tony Singh MBE Supper Clubs 10th & 11th July\nCelebrity chef Tony Singh MBE is visiting Tring (Wednesday 10 July) and Thame (Thursday 11 July) to create two very special 4-course suppers with paired drinks\, inspired by his travels around the world. Guests will have a chance to meet and chat with Tony and receive a signed copy of the menu. Tickets are £39.50 per person to include arrival drink\, 4-course dinner and matching wine/drink with each course with proceeds to Pepper Foundation. \nTo book tickets email: manager@coluco.com \nThe new COLUCO café bars are situated in Tring on the High Street and Thame on Butter Market and opened this Spring. Open all day\, menus span from all-day brunch\, to afternoon tea\, through to casual dinners and drinks by night\, with the name COLUCO simply drawing from coffee\, lunch\, and cocktails; the three pillars of the new concept. Both venues will provide a pit-stop for families\, shoppers\, workers and visitors alike to rest and refuel in a relaxing environment with a sense of community at the core. \n\nCOLUCO TRING: 50 High Street\, Tring\, HP23 5AG\nCOLUCO THAME & THE COOKERY SCHOOL: 14 Butter Market\, Thame\, OX9 3EP
URL:https://www.pepper.org.uk/event/celebrity-dinner-at-coluco/
END:VEVENT
BEGIN:VEVENT
DTSTART;TZID=UTC:20190706T100000
DTEND;TZID=UTC:20190707T170000
DTSTAMP:20260426T012005
CREATED:20190617T092638Z
LAST-MODIFIED:20190617T092638Z
UID:2136-1562407200-1562518800@www.pepper.org.uk
SUMMARY:Prestwood Steam Rally
DESCRIPTION:The Pepper Foundation are delighted that the Prestwood Steam Rally have chosen to support us again at the 2019 event.  You can find out more about the activities taken place by viewing the event website by clicking here \nWe will have a tombola and games on our stall so please pop along and see us!  The Rally takes place on Saturday 6th and Sunday 7th July and is open between 10.00 and 17.00 – we will shortly update this page with our stand number!  We hope to see you there! \nThank you Prestwood Steam Rally for your continued support of The Pepper Foundation!
URL:https://www.pepper.org.uk/event/prestwood-steam-rally/
LOCATION:Honor End Lane\, Prestwood\, HP16 9HQ\, United Kingdom
END:VEVENT
BEGIN:VEVENT
DTSTART;TZID=UTC:20190701T080000
DTEND;TZID=UTC:20190731T170000
DTSTAMP:20260426T012005
CREATED:20190702T080229Z
LAST-MODIFIED:20190702T080330Z
UID:2226-1561968000-1564592400@www.pepper.org.uk
SUMMARY:Picnic for Pepper!
DESCRIPTION:As July is #NationalPicnicMonth\, we are asking the community to raise money for their small\, local charity The Pepper Foundation by hosting a picnic! \nAt Pepper\, we understand the importance of making precious memories with our family – no matter how long we have with them. \nOur hope is that the families in our community will take the Picnic for Pepper as an opportunity to make moments with their loved ones that will last a lifetime. \nDownload your FREE fundraising pack today! >>www.pepper.org.uk/picnic
URL:https://www.pepper.org.uk/event/picnic-for-pepper/
END:VEVENT
BEGIN:VEVENT
DTSTART;TZID=UTC:20190701T080000
DTEND;TZID=UTC:20190731T170000
DTSTAMP:20260426T012005
CREATED:20190619T120216Z
LAST-MODIFIED:20190619T120252Z
UID:2177-1561968000-1564592400@www.pepper.org.uk
SUMMARY:Community Matters - Green Chip Scheme
DESCRIPTION:Throughout July we have been successfully selected to take part in the Community Matters Green Chip Scheme in the Chesham\, Gerrards Cross and Thame branches of Waitrose! \nWhen you finish your shopping and are at the till\, please take a green chip and vote for The Pepper Foundation!  At the end of the month\, Waitrose will kindly make a donation to Pepper based on the number of votes we receive! \nWe would like to thank the Waitrose branches for their support in helping us raise funds for the Children’s Hospice at Home Service.
URL:https://www.pepper.org.uk/event/community-matters-green-chip-scheme/
END:VEVENT
BEGIN:VEVENT
DTSTART;TZID=UTC:20190629T190000
DTEND;TZID=UTC:20190629T223000
DTSTAMP:20260426T012005
CREATED:20190321T150248Z
LAST-MODIFIED:20190501T114028Z
UID:1704-1561834800-1561847400@www.pepper.org.uk
SUMMARY:The Dung Beatles featuring musicians and singers from The Pepper Show!
DESCRIPTION:Come and join us on Saturday 29th June at Tring Carnival for a fantastic evening with performances from The Dung Beatles plus support featuring singers and musicians from The Pepper Show! \nThe doors and bar open at 19.00 with the performances kicking off at 20.00! Food will also be available to purchase. \nTickets are now on sale and can be purchased by calling Sally Dyer on 01442 507311 or you can buy them from Tring Brewery and Beechwoods Fine Foods. Tickets are £12.50 in advance or £15 on the door. \nAll funds raised goes towards helping children with life-limiting conditions and their families.
URL:https://www.pepper.org.uk/event/thedungbeatles/
LOCATION:Pound Meadow\, Pound Meadow\, Tring\, HP23 5NB
ORGANIZER;CN="Sally Dyer":MAILTO:sdyer@pepper.org.uk
END:VEVENT
BEGIN:VEVENT
DTSTART;TZID=UTC:20190629T100000
DTEND;TZID=UTC:20190629T150000
DTSTAMP:20260426T012005
CREATED:20190617T095652Z
LAST-MODIFIED:20190617T100827Z
UID:2143-1561802400-1561820400@www.pepper.org.uk
SUMMARY:The Ryan Ninan Children's Charity Football Match
DESCRIPTION:The Pepper Foundation are delighted to be attending the The Ryan Ninan Children’s Charity Football Match on Saturday 29th June.  The event is held between 10.00 and 15.00 and takes place at Wycombe Rye Lido\, Off Bassetsbury Lane\, High Wycombe\, HP11 1QX.  The 5 a side football matches run throughout the day and there are plenty of stalls to visit as well!  Pepper will have a stall with a number of activities for the children and will be raising funds to support the Children’s Hospice at Home Service. \n 
URL:https://www.pepper.org.uk/event/the-ryan-ninan-childrens-charity-football-match/
LOCATION:Wycombe Rye Lido\, Off Bassetsbury Lane\, High Wycombe\, HP11 1QX\, United Kingdom
END:VEVENT
BEGIN:VEVENT
DTSTART;TZID=UTC:20190622T100000
DTEND;TZID=UTC:20190622T170000
DTSTAMP:20260426T012005
CREATED:20190617T094715Z
LAST-MODIFIED:20190617T094715Z
UID:2140-1561197600-1561222800@www.pepper.org.uk
SUMMARY:Whizz Fizz Fest
DESCRIPTION:We will be taking part in the Aylesbury Whizz Fizz Fest on Saturday 22nd June.  Come along and visit us in the Exchange Area of the Festival opposite The Odeon Cinema.  We will be running activities for children including name the Panda and painting the Pepper Rocks! \nWe look forward to seeing you there! \n  \n 
URL:https://www.pepper.org.uk/event/whizz-fizz-fest/
LOCATION:The Exchange\, Exchange Street\, HP20 1UR\, United Kingdom
END:VEVENT
BEGIN:VEVENT
DTSTART;TZID=UTC:20190608T193000
DTEND;TZID=UTC:20190608T233000
DTSTAMP:20260426T012005
CREATED:20190318T125229Z
LAST-MODIFIED:20190501T114108Z
UID:1692-1560022200-1560036600@www.pepper.org.uk
SUMMARY:Hog Roast
DESCRIPTION:On Saturday 8th June a Hog Roast will be held at Tring Squash Club with all of the proceeds going to Pepper! The event is kindly being sponsored by Eric and Margaret Pillinger\, Betty and Ken Longhurst and David and Marilyn Butler. The evening will commence at 7.30 and the Roast will be served at 20.15. The venue boasts an excellent bar and there will be live music from The Offbeats and dancing during the evening! \nTickets are £20 and can be purchased by calling Sally Dyer on 01442 507311 or email sdyer@pepper.org.uk
URL:https://www.pepper.org.uk/event/hogroast/
LOCATION:Tring Squash Club\, Cow Lane\, Tring\, HP23 5NS\, United Kingdom
ORGANIZER;CN="Sally Dyer":MAILTO:sdyer@pepper.org.uk
END:VEVENT
BEGIN:VEVENT
DTSTART;VALUE=DATE:20190525
DTEND;VALUE=DATE:20190526
DTSTAMP:20260426T012005
CREATED:20190429T090551Z
LAST-MODIFIED:20190429T090551Z
UID:1936-1558742400-1558828799@www.pepper.org.uk
SUMMARY:100K London to Brighton
DESCRIPTION:David Finch and Darren Barrett recently contacted Pepper as they are taking part in the 100km London to Brighton on Saturday 25th May and have chosen to support Pepper by raising sponsorship! You can read their full story and donate here: www.justgiving.com/fundraising/davidfinch-darrenbarrett
URL:https://www.pepper.org.uk/event/100k-london-to-brighton/
END:VEVENT
END:VCALENDAR