BEGIN:VCALENDAR
VERSION:2.0
PRODID:-//Pepper Foundation - ECPv6.15.0.1//NONSGML v1.0//EN
CALSCALE:GREGORIAN
METHOD:PUBLISH
X-WR-CALNAME:Pepper Foundation
X-ORIGINAL-URL:https://www.pepper.org.uk
X-WR-CALDESC:Events for Pepper Foundation
REFRESH-INTERVAL;VALUE=DURATION:PT1H
X-Robots-Tag:noindex
X-PUBLISHED-TTL:PT1H
BEGIN:VTIMEZONE
TZID:UTC
BEGIN:STANDARD
TZOFFSETFROM:+0000
TZOFFSETTO:+0000
TZNAME:UTC
DTSTART:20190101T000000
END:STANDARD
END:VTIMEZONE
BEGIN:VEVENT
DTSTART;TZID=UTC:20190622T100000
DTEND;TZID=UTC:20190622T170000
DTSTAMP:20260426T024306
CREATED:20190617T094715Z
LAST-MODIFIED:20190617T094715Z
UID:2140-1561197600-1561222800@www.pepper.org.uk
SUMMARY:Whizz Fizz Fest
DESCRIPTION:We will be taking part in the Aylesbury Whizz Fizz Fest on Saturday 22nd June.  Come along and visit us in the Exchange Area of the Festival opposite The Odeon Cinema.  We will be running activities for children including name the Panda and painting the Pepper Rocks! \nWe look forward to seeing you there! \n  \n 
URL:https://www.pepper.org.uk/event/whizz-fizz-fest/
LOCATION:The Exchange\, Exchange Street\, HP20 1UR\, United Kingdom
END:VEVENT
BEGIN:VEVENT
DTSTART;TZID=UTC:20190608T193000
DTEND;TZID=UTC:20190608T233000
DTSTAMP:20260426T024306
CREATED:20190318T125229Z
LAST-MODIFIED:20190501T114108Z
UID:1692-1560022200-1560036600@www.pepper.org.uk
SUMMARY:Hog Roast
DESCRIPTION:On Saturday 8th June a Hog Roast will be held at Tring Squash Club with all of the proceeds going to Pepper! The event is kindly being sponsored by Eric and Margaret Pillinger\, Betty and Ken Longhurst and David and Marilyn Butler. The evening will commence at 7.30 and the Roast will be served at 20.15. The venue boasts an excellent bar and there will be live music from The Offbeats and dancing during the evening! \nTickets are £20 and can be purchased by calling Sally Dyer on 01442 507311 or email sdyer@pepper.org.uk
URL:https://www.pepper.org.uk/event/hogroast/
LOCATION:Tring Squash Club\, Cow Lane\, Tring\, HP23 5NS\, United Kingdom
ORGANIZER;CN="Sally Dyer":MAILTO:sdyer@pepper.org.uk
END:VEVENT
BEGIN:VEVENT
DTSTART;VALUE=DATE:20190525
DTEND;VALUE=DATE:20190526
DTSTAMP:20260426T024306
CREATED:20190429T090551Z
LAST-MODIFIED:20190429T090551Z
UID:1936-1558742400-1558828799@www.pepper.org.uk
SUMMARY:100K London to Brighton
DESCRIPTION:David Finch and Darren Barrett recently contacted Pepper as they are taking part in the 100km London to Brighton on Saturday 25th May and have chosen to support Pepper by raising sponsorship! You can read their full story and donate here: www.justgiving.com/fundraising/davidfinch-darrenbarrett
URL:https://www.pepper.org.uk/event/100k-london-to-brighton/
END:VEVENT
END:VCALENDAR