BEGIN:VCALENDAR
VERSION:2.0
PRODID:-//Pepper Foundation - ECPv6.15.0.1//NONSGML v1.0//EN
CALSCALE:GREGORIAN
METHOD:PUBLISH
X-ORIGINAL-URL:https://www.pepper.org.uk
X-WR-CALDESC:Events for Pepper Foundation
REFRESH-INTERVAL;VALUE=DURATION:PT1H
X-Robots-Tag:noindex
X-PUBLISHED-TTL:PT1H
BEGIN:VTIMEZONE
TZID:Europe/London
BEGIN:DAYLIGHT
TZOFFSETFROM:+0000
TZOFFSETTO:+0100
TZNAME:BST
DTSTART:20260329T010000
END:DAYLIGHT
BEGIN:STANDARD
TZOFFSETFROM:+0100
TZOFFSETTO:+0000
TZNAME:GMT
DTSTART:20261025T010000
END:STANDARD
END:VTIMEZONE
BEGIN:VEVENT
DTSTART;TZID=Europe/London:20260301T080000
DTEND;TZID=Europe/London:20260301T120000
DTSTAMP:20260425T165743
CREATED:20251204T151554Z
LAST-MODIFIED:20251204T151554Z
UID:5020-1772352000-1772366400@www.pepper.org.uk
SUMMARY:Berkhamsted Half Marathon and 5k 2026
DESCRIPTION:REGISTER YOUR FUNDRAISING PAGE\n  \nThe Half Marathon. \nThe Berkhamsted Half Marathon tracks through attractive Chilterns countryside and is an ideal timed event for runners returning to competitive running or for those training for the London Marathon and other full marathons. \nThe Five Mile Fun Run \nThe Five Mile Fun run is a very popular event with local runners\, especially family teams\, local schools and community groups who raise sponsorship for their own charitable causes. Sharing part of the Half Marathon route through beautiful countryside\, finishing the run gives a great sense of achievement. \nRun for Pepper  \nIf you’re thinking about doing the Berko Half or the fun run\, why not run it for the Pepper Foundation? The Pepper Foundation count on the support of the community to continue funding hospice care at home\, play & family days out for local children struggling with a life-limiting or life-threatening condition. Fundraising for Pepper is an easy\, highly impactful way to support these local families. It’s really simple: \n\nRegister for a fundraising page below.\nGo to www.berkorun.com/ to register to run\nShare your fundraising page with family\, friends and colleagues\nComplete your run\, feel achieved and know that you have made a huge difference to the lives of children that need our support.\n\nREGISTER YOUR FUNDRAISING PAGE\n 
URL:https://www.pepper.org.uk/event/berkhamsted-half-marathon-and-5k-2026/
LOCATION:Hertfordshire
ATTACH;FMTTYPE=image/jpeg:https://www.pepper.org.uk/wp-content/uploads/2025/12/Berko-Half-2026-Banner.jpg
ORGANIZER;CN="The Pepper Team":MAILTO:knicolas@pepper.org.uk
END:VEVENT
BEGIN:VEVENT
DTSTART;TZID=Europe/London:20260325T090000
DTEND;TZID=Europe/London:20260325T163000
DTSTAMP:20260425T165743
CREATED:20250918T132518Z
LAST-MODIFIED:20250929T140527Z
UID:4852-1774429200-1774456200@www.pepper.org.uk
SUMMARY:Pepper Golf Day @ The Grove 2026
DESCRIPTION:Join The Pepper Foundation for a day of golf at The Grove.\nAfter the success of the 2025 golf day\, Pepper returns to The Grove in 2026 for another day of golf\, food and fundraising! \nBook your team for The Pepper Golf Day 2026 @ The Grove\nThe Grove is one of the UK’s most prestigious golf courses and has been placed as the number 1 Golf Resort in England. \nThe proceeds from this golf day will help to fund Children’s Hospice at Home care in Herts & Bucks\, providing vital services for families caring for children with life-limiting and life-threatening conditions. \n£900 for a team of 4\, which includes: \n\nBreakfast & two-course lunch in the Players’ Lounge\nUse of driving range\, short game area\, and practice putting green\nComplimentary goodie bag\nNearest the Pin and Longest Drive competitions\n\nIf you have any questions\, please get in touch with knicolas@pepper.org.uk.
URL:https://www.pepper.org.uk/event/pepper-golf-day-the-grove-2026/
LOCATION:The Grove Golf Course\, Chandler’s Cross\, Watford\, WD3 4TG
ATTACH;FMTTYPE=image/jpeg:https://www.pepper.org.uk/wp-content/uploads/2025/09/Pepper_Golf_Day_The_Grove_Flyer_2026_02.jpg
ORGANIZER;CN="The Pepper Show":MAILTO:dgraham@pepper.org.uk
END:VEVENT
END:VCALENDAR